BEGIN:VCALENDAR
VERSION:2.0
PRODID:-//Events - ECPv6.14.2//NONSGML v1.0//EN
CALSCALE:GREGORIAN
METHOD:PUBLISH
X-WR-CALNAME:Events
X-ORIGINAL-URL:https://events.chaloweb.com
X-WR-CALDESC:Events for Events
REFRESH-INTERVAL;VALUE=DURATION:PT1H
X-Robots-Tag:noindex
X-PUBLISHED-TTL:PT1H
BEGIN:VTIMEZONE
TZID:America/Edmonton
BEGIN:DAYLIGHT
TZOFFSETFROM:-0700
TZOFFSETTO:-0600
TZNAME:MDT
DTSTART:20250309T090000
END:DAYLIGHT
BEGIN:STANDARD
TZOFFSETFROM:-0600
TZOFFSETTO:-0700
TZNAME:MST
DTSTART:20251102T080000
END:STANDARD
END:VTIMEZONE
BEGIN:VEVENT
DTSTART;TZID=America/Edmonton:20250906T113000
DTEND;TZID=America/Edmonton:20250906T133000
DTSTAMP:20260420T071928
CREATED:20250815T151308Z
LAST-MODIFIED:20250905T171541Z
UID:790-1757158200-1757165400@events.chaloweb.com
SUMMARY:Onam 2025
DESCRIPTION:WMCWAC Onam 2025.\nOnam Sadya Timings – 11.30 AM to 01.30 PM.\nFree for kids under the age of 4
URL:https://events.chaloweb.com/event/wmcwac-onam-2025/
LOCATION:Alberta
ATTACH;FMTTYPE=image/jpeg:https://events.chaloweb.com/wp-content/uploads/2025/08/IMG-20250817-WA0046-1.jpg
END:VEVENT
BEGIN:VEVENT
DTSTART;VALUE=DATE:20250517
DTEND;VALUE=DATE:20250518
DTSTAMP:20260420T071928
CREATED:20250407T182430Z
LAST-MODIFIED:20250517T170917Z
UID:367-1747440000-1747526399@events.chaloweb.com
SUMMARY:AARAVAM 2025
DESCRIPTION:Aaravam 2025 – A Multicultural Celebration of Arts and Diversity  featuring performances by professional artists and talented individuals from across Alberta especially calgary to promote cultural diversity and artistic expression through a variety of performances.\nDoor opens at 4.30 PM. \nDonate the cloths you no longer wear. Aaravam 2025 proudly supports Path to peace Canada cloth donation drive during this event.
URL:https://events.chaloweb.com/event/aaravam-2025/
LOCATION:Location\, 5 Redstone Hts. NE\, Calgary\, AB\, Calgary\, Alberta\, T3N 0T6\, Canada
CATEGORIES:Public
ATTACH;FMTTYPE=image/jpeg:https://events.chaloweb.com/wp-content/uploads/2025/04/AARAVAM-2025_Tile-Sponsors.jpg
ORGANIZER;CN="WMCWAC":MAILTO:wmcwac@gmail.com
END:VEVENT
END:VCALENDAR