BEGIN:VCALENDAR
VERSION:2.0
PRODID:-//Events - ECPv6.14.2//NONSGML v1.0//EN
CALSCALE:GREGORIAN
METHOD:PUBLISH
X-WR-CALNAME:Events
X-ORIGINAL-URL:https://events.chaloweb.com
X-WR-CALDESC:Events for Events
REFRESH-INTERVAL;VALUE=DURATION:PT1H
X-Robots-Tag:noindex
X-PUBLISHED-TTL:PT1H
BEGIN:VTIMEZONE
TZID:America/Edmonton
BEGIN:DAYLIGHT
TZOFFSETFROM:-0700
TZOFFSETTO:-0600
TZNAME:MDT
DTSTART:20250309T090000
END:DAYLIGHT
BEGIN:STANDARD
TZOFFSETFROM:-0600
TZOFFSETTO:-0700
TZNAME:MST
DTSTART:20251102T080000
END:STANDARD
END:VTIMEZONE
BEGIN:VEVENT
DTSTART;TZID=America/Edmonton:20251108T170000
DTEND;TZID=America/Edmonton:20251108T190000
DTSTAMP:20260420T004858
CREATED:20250925T064136Z
LAST-MODIFIED:20251006T060727Z
UID:970-1762621200-1762628400@events.chaloweb.com
SUMMARY:Sandranandalayam by Nandagovindam Bhajans- Canada
DESCRIPTION:Sandranandalayam An evening of devotion\, culture\, and togetherness by Nandagovindam Bhajans- Canada Organized by Mantrah Canada  \n📅 Date: Saturday\, November 8\, 2025📍 Venue: 6439 2nd Street SE\, Calgary \nTicket price includes light snacks & hot drink.\nFree entry for kids under the age of 5.
URL:https://events.chaloweb.com/event/sandranandalayam/
LOCATION:la bodeguita stereo\, 6439 2 St SE\, Calgary\, Alberta\, T2H 1J5\, Canada
ATTACH;FMTTYPE=image/jpeg:https://events.chaloweb.com/wp-content/uploads/2025/09/IMG-20251005-WA0065.jpg
END:VEVENT
BEGIN:VEVENT
DTSTART;TZID=America/Edmonton:20251108T170000
DTEND;TZID=America/Edmonton:20251108T190000
DTSTAMP:20260420T004858
CREATED:20250927T040954Z
LAST-MODIFIED:20251107T014156Z
UID:1009-1762621200-1762628400@events.chaloweb.com
SUMMARY:Sandranandalayam by Nandagovindam Bhajans- Canada
DESCRIPTION:Content is protected.
URL:https://events.chaloweb.com/event/sandranandalayam-by-nandagovindam-bhajans-canada-guest/
LOCATION:la bodeguita stereo\, 6439 2 St SE\, Calgary\, Alberta\, T2H 1J5\, Canada
END:VEVENT
END:VCALENDAR